BEGIN:VCALENDAR
VERSION:2.0
PRODID:-//Le Canal Auditif - ECPv6.15.16//NONSGML v1.0//EN
CALSCALE:GREGORIAN
METHOD:PUBLISH
X-WR-CALNAME:Le Canal Auditif
X-ORIGINAL-URL:https://lecanalauditif.ca
X-WR-CALDESC:Évènements pour Le Canal Auditif
REFRESH-INTERVAL;VALUE=DURATION:PT1H
X-Robots-Tag:noindex
X-PUBLISHED-TTL:PT1H
BEGIN:VTIMEZONE
TZID:America/Toronto
BEGIN:DAYLIGHT
TZOFFSETFROM:-0500
TZOFFSETTO:-0400
TZNAME:EDT
DTSTART:20200308T070000
END:DAYLIGHT
BEGIN:STANDARD
TZOFFSETFROM:-0400
TZOFFSETTO:-0500
TZNAME:EST
DTSTART:20201101T060000
END:STANDARD
BEGIN:DAYLIGHT
TZOFFSETFROM:-0500
TZOFFSETTO:-0400
TZNAME:EDT
DTSTART:20210314T070000
END:DAYLIGHT
BEGIN:STANDARD
TZOFFSETFROM:-0400
TZOFFSETTO:-0500
TZNAME:EST
DTSTART:20211107T060000
END:STANDARD
BEGIN:DAYLIGHT
TZOFFSETFROM:-0500
TZOFFSETTO:-0400
TZNAME:EDT
DTSTART:20220313T070000
END:DAYLIGHT
BEGIN:STANDARD
TZOFFSETFROM:-0400
TZOFFSETTO:-0500
TZNAME:EST
DTSTART:20221106T060000
END:STANDARD
END:VTIMEZONE
BEGIN:VEVENT
DTSTART;VALUE=DATE:20210522
DTEND;VALUE=DATE:20210523
DTSTAMP:20260424T051057
CREATED:20210419T203303Z
LAST-MODIFIED:20210505T214459Z
UID:188902-1621641600-1621727999@lecanalauditif.ca
SUMMARY:FIMAV 2021 | 22 mai | Programmation
DESCRIPTION:Le Festival international de musique actuelle de Victoriaville présente sa programmation musicale pour 37e édition du 17 au 23 mai 2021. Voici ce qu’il y aura à découvrir le 22 mai\, en musique. \n22 MAI \n\n13 H à l’ÉGLISE ST-CHRISTOPHE D’ARTHABSKA : Eve Egoyan Solo (26$) \n15 H au COLISÉE A : GGRIL (32$) \n17 H 30 au CARRÉ 150 : TAMAYUGÉ ET THISQUIETARMY x AWAY (32$) \n19 H 30 au COLISÉE A : LE CHOEUR DE GROWLERS / une présentation du Canal Auditif (32$) \n  \nInstallations sonores et horaire cinéma disponibles en cliquant ici.
URL:https://lecanalauditif.ca/evenement/fimav-2021-22-mai-programmation/
LOCATION:Victoriaville\, Victoriaville\, Québec\, Canada
CATEGORIES:Festival
ATTACH;FMTTYPE=image/jpeg:https://lecanalauditif.ca/wp-content/uploads/2021/04/493_FIMAV37_Web-2_768x768-FR_web.jpeg
END:VEVENT
END:VCALENDAR