BEGIN:VCALENDAR
VERSION:2.0
PRODID:-//Le Canal Auditif - ECPv6.15.16//NONSGML v1.0//EN
CALSCALE:GREGORIAN
METHOD:PUBLISH
X-ORIGINAL-URL:https://lecanalauditif.ca
X-WR-CALDESC:Évènements pour Le Canal Auditif
REFRESH-INTERVAL;VALUE=DURATION:PT1H
X-Robots-Tag:noindex
X-PUBLISHED-TTL:PT1H
BEGIN:VTIMEZONE
TZID:America/Toronto
BEGIN:DAYLIGHT
TZOFFSETFROM:-0500
TZOFFSETTO:-0400
TZNAME:EDT
DTSTART:20200308T070000
END:DAYLIGHT
BEGIN:STANDARD
TZOFFSETFROM:-0400
TZOFFSETTO:-0500
TZNAME:EST
DTSTART:20201101T060000
END:STANDARD
BEGIN:DAYLIGHT
TZOFFSETFROM:-0500
TZOFFSETTO:-0400
TZNAME:EDT
DTSTART:20210314T070000
END:DAYLIGHT
BEGIN:STANDARD
TZOFFSETFROM:-0400
TZOFFSETTO:-0500
TZNAME:EST
DTSTART:20211107T060000
END:STANDARD
BEGIN:DAYLIGHT
TZOFFSETFROM:-0500
TZOFFSETTO:-0400
TZNAME:EDT
DTSTART:20220313T070000
END:DAYLIGHT
BEGIN:STANDARD
TZOFFSETFROM:-0400
TZOFFSETTO:-0500
TZNAME:EST
DTSTART:20221106T060000
END:STANDARD
END:VTIMEZONE
BEGIN:VEVENT
DTSTART;VALUE=DATE:20210603
DTEND;VALUE=DATE:20210604
DTSTAMP:20260423T192434
CREATED:20210525T212809Z
LAST-MODIFIED:20210602T184945Z
UID:195862-1622678400-1622764799@lecanalauditif.ca
SUMMARY:Ensemble ILÉA | Suoni Per IL Popolo
DESCRIPTION:L’Ensemble ILÉA est un ensemble à géométrie variable dédié à l’improvisation en musique mixte (instruments acoustiques et électroniques)\, fondé par Kevin Gironnay. \nÉcouter. \n 
URL:https://lecanalauditif.ca/evenement/ensemble-ilea-suoni-per-il-popolo/
LOCATION:Diffusion en ligne
CATEGORIES:Spectacle
ATTACH;FMTTYPE=image/jpeg:https://lecanalauditif.ca/wp-content/uploads/2021/05/suoni-per-il-popolo-2021.jpg
END:VEVENT
BEGIN:VEVENT
DTSTART;VALUE=DATE:20210603
DTEND;VALUE=DATE:20210604
DTSTAMP:20260423T192434
CREATED:20210525T213129Z
LAST-MODIFIED:20210602T185343Z
UID:195864-1622678400-1622764799@lecanalauditif.ca
SUMMARY:Moor Mother / Luke Stewart / Tcheser Holmes | Suoni Per IL Popolo | Virtuel
DESCRIPTION:Co-présenté avec Ars Nova Workshop et Coastal Jazz and Blues. \nGratuit\, en ligne sur Facebook
URL:https://lecanalauditif.ca/evenement/moor-mother-luke-stewart-tcheser-holmes-suoni-per-il-popolo/
LOCATION:Diffusion en ligne
CATEGORIES:Spectacle
ATTACH;FMTTYPE=image/png:https://lecanalauditif.ca/wp-content/uploads/2021/05/Capture-décran-le-2021-05-25-à-17.30.13.png
END:VEVENT
BEGIN:VEVENT
DTSTART;VALUE=DATE:20210603
DTEND;VALUE=DATE:20210604
DTSTAMP:20260423T192434
CREATED:20210525T213605Z
LAST-MODIFIED:20210602T185258Z
UID:195867-1622678400-1622764799@lecanalauditif.ca
SUMMARY:SISTAZZ OF THA NITTY GRITTY | Suoni Per IL Popolo
DESCRIPTION:Sistazz of the Nitty Gritty est composé de la clarinettiste/chanteuse Angel Bat Dawid\, de la pianiste/chanteuse Anaiet et de la bassiste Brooklynn Skye Scott. Issus des grandes traditions de la musique noire de Chicago et membres actifs de la Chicago Black Artist Union\, cet ensemble se compose d’une myriade d’antécédents musicaux\, de textures et de sons reposant largement sur des compositions spontanées et l’improvisation. Sistazz of Tha Nitty Gritty s’est produit lors du 3e concert de charité annuel d’Elastic Arts\, du festival annuel de musique extatique du Kauffman Center of the Performing Arts\, du festival New Music Circle\, du festival Interference Fest : Wxmen Making Noise 2020 à Austin (Texas)\, Fulcrum Point 22nd Annual Concert for Peace\, Jazz Institute of Chicago Jazz in the City Series\, ainsi que dans le cadre de la série First Monday’s Jazz de l’Université de Chicago.
URL:https://lecanalauditif.ca/evenement/sistazz-of-the-nitty-gritty-suoni-per-il-popolo/
LOCATION:Diffusion en ligne
CATEGORIES:Spectacle
ATTACH;FMTTYPE=image/png:https://lecanalauditif.ca/wp-content/uploads/2021/05/Capture-décran-le-2021-05-25-à-17.32.39.png
END:VEVENT
BEGIN:VEVENT
DTSTART;TZID=America/Toronto:20210603T180000
DTEND;TZID=America/Toronto:20210603T200000
DTSTAMP:20260423T192434
CREATED:20210525T212057Z
LAST-MODIFIED:20210602T185220Z
UID:195860-1622743200-1622750400@lecanalauditif.ca
SUMMARY:JÜRG FREY | UNHÖRBARE ZEIT | Suoni Per IL Popolo et Le Vivier
DESCRIPTION:Le Quatuor Bozzini en compagnie des percussionnistes Kristie Ibrahim et Fabrice Marandola performeront le UNHÖRBARE ZEIT du compositeur suisse JÜRG FREY’S. \nSpectacle de 40 minutes\, présenté par Le Groupe Vivier dans le cadre du festival Suoni Per II Popolo 2021. \nCe concert aura lieu à l’Espace Aline-Letendre — Église du Gesù\, 1200\, rue de Bleury.
URL:https://lecanalauditif.ca/evenement/quatuor-bozzini-kristie-ibrahim-fabrice-marandola-jouent-unhorbare-zeit-de-jurg-frey/
LOCATION:Le Gesù\, 1200 rue de Bleury\, Montréal\, H3B 3J3\, Canada
CATEGORIES:Spectacle
ATTACH;FMTTYPE=image/jpeg:https://lecanalauditif.ca/wp-content/uploads/2021/05/suoni-per-il-popolo-2021.jpg
END:VEVENT
END:VCALENDAR