BEGIN:VCALENDAR
VERSION:2.0
PRODID:-//Le Canal Auditif - ECPv6.15.16//NONSGML v1.0//EN
CALSCALE:GREGORIAN
METHOD:PUBLISH
X-WR-CALNAME:Le Canal Auditif
X-ORIGINAL-URL:https://lecanalauditif.ca
X-WR-CALDESC:Évènements pour Le Canal Auditif
REFRESH-INTERVAL;VALUE=DURATION:PT1H
X-Robots-Tag:noindex
X-PUBLISHED-TTL:PT1H
BEGIN:VTIMEZONE
TZID:America/Toronto
BEGIN:DAYLIGHT
TZOFFSETFROM:-0500
TZOFFSETTO:-0400
TZNAME:EDT
DTSTART:20200308T070000
END:DAYLIGHT
BEGIN:STANDARD
TZOFFSETFROM:-0400
TZOFFSETTO:-0500
TZNAME:EST
DTSTART:20201101T060000
END:STANDARD
BEGIN:DAYLIGHT
TZOFFSETFROM:-0500
TZOFFSETTO:-0400
TZNAME:EDT
DTSTART:20210314T070000
END:DAYLIGHT
BEGIN:STANDARD
TZOFFSETFROM:-0400
TZOFFSETTO:-0500
TZNAME:EST
DTSTART:20211107T060000
END:STANDARD
BEGIN:DAYLIGHT
TZOFFSETFROM:-0500
TZOFFSETTO:-0400
TZNAME:EDT
DTSTART:20220313T070000
END:DAYLIGHT
BEGIN:STANDARD
TZOFFSETFROM:-0400
TZOFFSETTO:-0500
TZNAME:EST
DTSTART:20221106T060000
END:STANDARD
END:VTIMEZONE
BEGIN:VEVENT
DTSTART;TZID=America/Toronto:20210623T200000
DTEND;TZID=America/Toronto:20210623T230000
DTSTAMP:20260420T063520
CREATED:20210520T182529Z
LAST-MODIFIED:20210520T182649Z
UID:194730-1624478400-1624489200@lecanalauditif.ca
SUMMARY:Tizzo + Raccoon | MTELUS | Présentiel
DESCRIPTION:Les billets se vendent à la  paire ou bien quatre à la fois. \nDans le cadre de la série de concerts présentés par le label Kartel Musik\, voyez en fomule présentielle les rappeurs Tizzo et Raccoon au MTelus de Montréal. \nTizzo et Raccoon seront aussi en spectacle à l’Impérial Bell de Québec le 24 juin.
URL:https://lecanalauditif.ca/evenement/tizzo-raccoon-m-telus-presentiel/
CATEGORIES:Spectacle
ATTACH;FMTTYPE=image/png:https://lecanalauditif.ca/wp-content/uploads/2021/05/Capture-décran-le-2021-05-20-à-14.24.35.png
END:VEVENT
BEGIN:VEVENT
DTSTART;TZID=America/Toronto:20210612T193000
DTEND;TZID=America/Toronto:20210612T193000
DTSTAMP:20260420T063520
CREATED:20210521T181544Z
LAST-MODIFIED:20210521T181544Z
UID:194995-1623526200-1623526200@lecanalauditif.ca
SUMMARY:Hanorah + TIKA | POP Montréal | Présentiel
DESCRIPTION:Concert hybride avec TIKA et Hanorah \nPortes 19h10 (pour le public en personne)\nConcert 19h30 \nBillets (en-personne / limité à 26 places assises): $10 taxes incluses**\nDiffusion virtuelle gratuite via Facebook \n**Admission générale assise\, masques obligatoires\, distanciation sociale et traçage des contacts en vigueur.\nNous demandons à la personne qui a acheté le(s) billet(s) d’être présente sur place. Une pièce d’identité sera requise. Nous aurons besoin d’un justificatif de domicile pour les billets achetés ensemble\, les acheteurs de billets doivent avoir la même adresse pour être assis ensemble\, ceci sera demandé à la porte du lieu de l’événement.
URL:https://lecanalauditif.ca/evenement/hanorah-tika-pop-montreal-presentiel/
CATEGORIES:Spectacle
ATTACH;FMTTYPE=image/jpeg:https://lecanalauditif.ca/wp-content/uploads/2021/05/hanorah-pop-montréal.jpeg
END:VEVENT
BEGIN:VEVENT
DTSTART;TZID=America/Toronto:20210610T200000
DTEND;TZID=America/Toronto:20210610T200000
DTSTAMP:20260420T063520
CREATED:20210419T205323Z
LAST-MODIFIED:20210419T205323Z
UID:188018-1623355200-1623355200@lecanalauditif.ca
SUMMARY:Ormiston | Lancement de l'album Hammer Down
DESCRIPTION:ORMISTON est un chanteur\, auteur-compositeur et producteur d’une musique solaire et décontractée\, entre indie pop\, Chillwave et Yacht Rock. On y retrouve des influences à la Toro Y Moi\, MGMT et également une empreinte électro-disco. Son premier album sera dévoilé le 4 juin 2021. \nPortes : 19 h
URL:https://lecanalauditif.ca/evenement/ormiston-lancement-de-lalbum-hammer-down/
CATEGORIES:Spectacle
ATTACH;FMTTYPE=image/jpeg:https://lecanalauditif.ca/wp-content/uploads/2021/02/Ormiston-by-JF-Suavé-1.jpg
END:VEVENT
BEGIN:VEVENT
DTSTART;TZID=America/Toronto:20210606T193000
DTEND;TZID=America/Toronto:20210606T193000
DTSTAMP:20260420T063520
CREATED:20210602T200200Z
LAST-MODIFIED:20210602T200200Z
UID:197571-1623007800-1623007800@lecanalauditif.ca
SUMMARY:Ariane Moffatt\, Choses Sauvages\, Martha Wainwright\, Mommies on the Run | Rallumer les étoiles
DESCRIPTION:« Le deuxième événement Rallumer les étoiles aura lieu le samedi 6 juin 2021\, sur le site du festival La Grosse Lanterne\, à Béthanie (Montérégie). Dès 19h30\, les spectateurs pourront y voir Ariane Moffatt\, Martha Wainwright\, Choses Sauvages ainsi que le Quatuor Mommies on the Run. » Source : sors-tu.ca
URL:https://lecanalauditif.ca/evenement/ariane-moffatt-choses-sauvages-martha-wainwright-mommies-on-the-run-rallumer-les-etoiles/
LOCATION:Béthanie\, 1801 Chemin de Béthanie\, Béthanie\, QC\, J0H 1E1
CATEGORIES:Spectacle
ATTACH;FMTTYPE=image/jpeg:https://lecanalauditif.ca/wp-content/uploads/2021/06/rallumer-les-etoiles-02-grand_662x0.jpeg
END:VEVENT
BEGIN:VEVENT
DTSTART;TZID=America/Toronto:20210603T193000
DTEND;TZID=America/Toronto:20210603T230000
DTSTAMP:20260420T063520
CREATED:20210602T193224Z
LAST-MODIFIED:20210602T193224Z
UID:197556-1622748600-1622761200@lecanalauditif.ca
SUMMARY:ALIAS @ L'Escogriffe | Deux séances
DESCRIPTION:2 séances : 19h30 et 21h00\n\nÀ propos d’ALIAS\n\nEmmanuel Alias (guitare\, voix)\, Jean-Baptiste Beltra (clavier\, guitare)\, Vincent Bénézet (basse) et Simon Bilodeau (batterie) propulsent un psych rock planant marqué de revers à travers des hauts et bas d’intensité\, chinant les genres en évoquant les canons pour mieux explorer autour. Il se passe quelque chose de plus\, simplement – via l’imprévu\, l’improvisation\, l’ambiance : une performance habitée\, à chaque fois aguerrie et vierge.\n\n\n\n\n\nToutes les mesures de distanciation sociale nécessaires seront mises en place lors du spectacle.
URL:https://lecanalauditif.ca/evenement/alias-lescogriffe-deux-seances/
LOCATION:L’Escogriffe Bar Spectacle\, Montréal\, Québec\, Canada
CATEGORIES:Spectacle
ATTACH;FMTTYPE=image/jpeg:https://lecanalauditif.ca/wp-content/uploads/2021/06/Alias.jpeg
END:VEVENT
BEGIN:VEVENT
DTSTART;TZID=America/Toronto:20210529T200000
DTEND;TZID=America/Toronto:20210529T230000
DTSTAMP:20260420T063520
CREATED:20210520T191437Z
LAST-MODIFIED:20210520T191437Z
UID:194746-1622318400-1622329200@lecanalauditif.ca
SUMMARY:Caracol + Amay Laoni | MTELUS | Présentiel
DESCRIPTION:Dans le cadre de la série de concerts présentés par Kartel Musik\, voyez en formule présentielle les artistes Caracol et Amay Laoni @MTELUS. \nLes billets sont vendus à la paire ou au nombre de quatre. \nCaracol et Amay Laoni seront également en spectacle le 23 juin à l’Impérial Bell de Québec.
URL:https://lecanalauditif.ca/evenement/caracol-amay-laoni-mtelus-presentiel/
CATEGORIES:Spectacle
ATTACH;FMTTYPE=image/png:https://lecanalauditif.ca/wp-content/uploads/2021/05/Capture-décran-le-2021-05-20-à-14.24.35.png
END:VEVENT
BEGIN:VEVENT
DTSTART;TZID=America/Toronto:20210521T190000
DTEND;TZID=America/Toronto:20210521T210000
DTSTAMP:20260420T063520
CREATED:20210319T135838Z
LAST-MODIFIED:20210513T133709Z
UID:182655-1621623600-1621630800@lecanalauditif.ca
SUMMARY:Paupière — Sade Sati | Lancement d'album | Présentiel + Webdiffusion
DESCRIPTION:Le duo électro-pop montréalais Paupière lance son album Sade Sati le 21 mai 2021 via Lisbon Lux Records\, au Ministère (Plateau Mont-Royal).\n\n 19h00 (Ouverture des portes à 18h00)\n*l’heure du spectacle peut varier en fonction des mesures pour la Covid-19 en vigueur dans la région.\nEn salle\, les places sont limitées. \n\n\n\nÀ la porte: 22\,87$ (taxes et frais de services inclus) // Web Diffusion: 11\,94$(taxes et frais de services inclus)
URL:https://lecanalauditif.ca/evenement/paupiere-sade-sati-lancement-dalbum/
CATEGORIES:Spectacle
ATTACH;FMTTYPE=image/jpeg:https://lecanalauditif.ca/wp-content/uploads/2021/03/Paupière-par-Christine-Turek_3447-2_1152x800_lpdv-1024x576-1.jpeg
ORGANIZER;CN="Les Productions Le Minist%C3%A8re":MAILTO:alex@leministere.ca
END:VEVENT
BEGIN:VEVENT
DTSTART;TZID=America/Toronto:20210514T190000
DTEND;TZID=America/Toronto:20210514T200000
DTSTAMP:20260420T063520
CREATED:20210412T192423Z
LAST-MODIFIED:20210423T145454Z
UID:187370-1621018800-1621022400@lecanalauditif.ca
SUMMARY:Gab Bouchard | Présentiel @La Tulipe
DESCRIPTION:Voyez l’auteur-compositeur-interprète québécois Gab Bouchard. Son plus récent album\, Triste pareil\, est paru via Bravo Musique en 2020. \nHORAIRE MODIFIÉ : Portes: 17h / Spectacle 18h \nÀ moins que les mesures sanitaires soient levées ou allégées: \n-Le masque de procédure devra être porté en tout temps. \n-Le bar sera fermé. \n-La salle sera en configuration admission générale\, places assises\, respectant les règles de distanciation en vigueur.
URL:https://lecanalauditif.ca/evenement/gab-bouchard-presentiel-la-tulipe/
LOCATION:La Tulipe\, 4530 Avenue Papineau\, Montréal\, H2H 1V3\, Canada
CATEGORIES:Spectacle
ATTACH;FMTTYPE=image/jpeg:https://lecanalauditif.ca/wp-content/uploads/2021/04/AD8_Gab_Bouchard_2021.jpeg
END:VEVENT
BEGIN:VEVENT
DTSTART;TZID=America/Toronto:20210512T180000
DTEND;TZID=America/Toronto:20210512T200000
DTSTAMP:20260420T063520
CREATED:20210419T200359Z
LAST-MODIFIED:20210419T200359Z
UID:188878-1620842400-1620849600@lecanalauditif.ca
SUMMARY:Julien Sagot | Lancement présentiel ET virtuel @Ausgang Plaza
DESCRIPTION:**ATTENTION : L’heure et la date sont sujettes à modifications\, selon les mesures sanitaires qui seront en vigueur le 12 mai 2021. \nLANCEMENT DE L’ALBUM SAGOT DE JULIEN SAGOT (KARKWA). Une présentation de Simone Records. \nRetrouvez notre critique de Sagot ici. \nDouble programme \nPrestation à 18h00 \nPrestation à 19h00
URL:https://lecanalauditif.ca/evenement/julien-sagot-lancement-presentiel-et-virtuel-ausgang-plaza/
LOCATION:Ausgang Plaza\, 6524 St-Hubert\, Montréal\, Québec\, H2S 2M3\, Canada
CATEGORIES:Spectacle
ATTACH;FMTTYPE=image/jpeg:https://lecanalauditif.ca/wp-content/uploads/2021/02/juliensagot-single.jpg
END:VEVENT
BEGIN:VEVENT
DTSTART;TZID=America/Toronto:20210501T190000
DTEND;TZID=America/Toronto:20210501T210000
DTSTAMP:20260420T063520
CREATED:20210412T191819Z
LAST-MODIFIED:20210412T191819Z
UID:187367-1619895600-1619902800@lecanalauditif.ca
SUMMARY:The Blaze Velluto Collection | La Tulipe | Présentiel (nouvelle date)
DESCRIPTION:Voyez le groupe québécois The Blaze Velluto Collection en spectacle présentiel\, devant public\, à la salle La Tulipe\, Montréal. \n(Spectacle initialement prévu le 23 mars 2021. Les billets vendus seront honorés) \nÀ moins que les mesures sanitaires soient levées ou allégées:   \n-Le masque de procédure devra être porté en tout temps. \n-Le bar sera fermé. \n-La salle sera en configuration admission générale\, places assises\, respectant les règles de distanciation en vigueur. \n 
URL:https://lecanalauditif.ca/evenement/the-blaze-velluto-collection-la-tulipe-presentiel-nouvelle-date/
LOCATION:La Tulipe\, 4530 Avenue Papineau\, Montréal\, H2H 1V3\, Canada
CATEGORIES:Spectacle
ATTACH;FMTTYPE=image/jpeg:https://lecanalauditif.ca/wp-content/uploads/2021/04/THE-BLAZE-VELLUTO-COLLECTION_-MVNTsgGQzTnHALbZ1kc_.jpeg
END:VEVENT
BEGIN:VEVENT
DTSTART;TZID=America/Toronto:20210417T080000
DTEND;TZID=America/Toronto:20210417T170000
DTSTAMP:20260420T063520
CREATED:20210407T230358Z
LAST-MODIFIED:20210407T230515Z
UID:186676-1618646400-1618678800@lecanalauditif.ca
SUMMARY:Présentiel! We Are Wolves + Renard Blanc // Zaricot
DESCRIPTION:Assistez au concert présentiel des groupes de rock We Are Wolves et Renard Blanc au bar-spectacles le Zaricot de Saint-Hyacinthe. 18 ans+\n\nWe are Wolves :\n« Plus aigü\, plus intense\, définitif ». Ce refrain scandé dans la piece éponyme de l’EP « Main de Dieu » agit tel un mantra pour Alex Ortiz et Vincent Levesque\, membres du groupe We Are Wolves. Pions majeurs sur l’échiquier de la scène alternative électro-punk des dernières deux décennies\, les gars retournent sur scène avec un spectacle qui va au delà du déjà-vu. Plus confiants que jamais sur scène\, Ortiz et Levesque n’ont pas peur d’explorer la spontanéité dans leur spectacle\, parfois même doté de moments improvisés. Un spectacle organique\, affirmé et bruyant: c’est ce que promettent les gars de We Are Wolves.\n\nRenard Blanc (première partie) :\nC’est l’animal totem de trois gars qui se sont rencontrés lors de jams sessions nocturnes en campagne menant à des trous noirs sonores. À une ère où tout est « post-quelque-chose »\, Renard Blanc se tient loin de tout ça pour assumer pleinement leurs expérimentations. La spirale musicale qui en ressort fait perdre les repères des trippeux\, assourdis les néophytes et condamne les conventions. Après deux EP dont un secret et un album complet\, Renard Blanc s’apprête à sortir un deuxième effort plus deep dans l’intersidéral. « Nuit » se veut sombre\, éclaté et trompeur. Ne vous fiez pas aux apparences\, le mal est plus beau qu’on ne le pense.
URL:https://lecanalauditif.ca/evenement/we-are-wolves-et-renard-blanc-presentiel-zaricot/
CATEGORIES:Spectacle
ATTACH;FMTTYPE=image/jpeg:https://lecanalauditif.ca/wp-content/uploads/2018/07/0Y7A8347.jpg
END:VEVENT
END:VCALENDAR