BEGIN:VCALENDAR
VERSION:2.0
PRODID:-//Le Canal Auditif - ECPv6.15.16//NONSGML v1.0//EN
CALSCALE:GREGORIAN
METHOD:PUBLISH
X-ORIGINAL-URL:https://lecanalauditif.ca
X-WR-CALDESC:Évènements pour Le Canal Auditif
REFRESH-INTERVAL;VALUE=DURATION:PT1H
X-Robots-Tag:noindex
X-PUBLISHED-TTL:PT1H
BEGIN:VTIMEZONE
TZID:America/Toronto
BEGIN:DAYLIGHT
TZOFFSETFROM:-0500
TZOFFSETTO:-0400
TZNAME:EDT
DTSTART:20230312T070000
END:DAYLIGHT
BEGIN:STANDARD
TZOFFSETFROM:-0400
TZOFFSETTO:-0500
TZNAME:EST
DTSTART:20231105T060000
END:STANDARD
BEGIN:DAYLIGHT
TZOFFSETFROM:-0500
TZOFFSETTO:-0400
TZNAME:EDT
DTSTART:20240310T070000
END:DAYLIGHT
BEGIN:STANDARD
TZOFFSETFROM:-0400
TZOFFSETTO:-0500
TZNAME:EST
DTSTART:20241103T060000
END:STANDARD
BEGIN:DAYLIGHT
TZOFFSETFROM:-0500
TZOFFSETTO:-0400
TZNAME:EDT
DTSTART:20250309T070000
END:DAYLIGHT
BEGIN:STANDARD
TZOFFSETFROM:-0400
TZOFFSETTO:-0500
TZNAME:EST
DTSTART:20251102T060000
END:STANDARD
END:VTIMEZONE
BEGIN:VEVENT
DTSTART;TZID=America/Toronto:20240904T193000
DTEND;TZID=America/Toronto:20240907T230000
DTSTAMP:20260420T185337
CREATED:20240730T170555Z
LAST-MODIFIED:20240730T172127Z
UID:300095-1725478200-1725750000@lecanalauditif.ca
SUMMARY:The Beatles - Hommage Symphonique
DESCRIPTION:C’est du 4 au 7 septembre à la Salle Wilfrid-Pelletier qu’aura lieu 3 représentations du spectacle The Beatles –  Hommage Symphonique. Le tout est pour célébrer le 60e anniversaire de leur première tournée nord-américaine.  \n\n\n\nMercredi 4 septembre – 19h30Samedi 7 septembre – 15hSamedi 7 septembre – 19h30
URL:https://lecanalauditif.ca/evenement/the-beatles-hommage-symphonique-salle-wilfrid-pelletier-4-7-septembre-2024/
LOCATION:Salle Wilfrid-Pelletier\, 175 Rue Ste-Catherine Ouest\, Montréal\, H2X 3X5\, Canada
CATEGORIES:Spectacle
ATTACH;FMTTYPE=image/jpeg:https://lecanalauditif.ca/wp-content/uploads/2024/07/Beatles_Symph_2024_Siteweb_1400x788.jpeg
END:VEVENT
BEGIN:VEVENT
DTSTART;TZID=America/Toronto:20240916T190000
DTEND;TZID=America/Toronto:20240916T230000
DTSTAMP:20260420T185337
CREATED:20240422T132558Z
LAST-MODIFIED:20240422T132558Z
UID:292776-1726513200-1726527600@lecanalauditif.ca
SUMMARY:CHARLI XCX & TROYE SIVAN : SWEAT - la tournée
DESCRIPTION:Les artistes pop Charlie XCX et Troye Sivan seront à la Place Bell le lundi 16 septembre à partir de 19h dans le cadre de la tournée Sweat.
URL:https://lecanalauditif.ca/evenement/charli-xcx-troye-sivan-sweat-tournee/
LOCATION:Place Bell\, 1950 rue Claude-Gagné\, Laval\, Québec\, H7N 0E4\, Canada
CATEGORIES:Spectacle
ATTACH;FMTTYPE=image/jpeg:https://lecanalauditif.ca/wp-content/uploads/2024/04/Static_Social-FacebookPR_1200x630_CharliXCX-TroyeSivan_2024_National.jpg
END:VEVENT
BEGIN:VEVENT
DTSTART;TZID=America/Toronto:20240917T200000
DTEND;TZID=America/Toronto:20240917T230000
DTSTAMP:20260420T185337
CREATED:20240628T200930Z
LAST-MODIFIED:20240628T201030Z
UID:298216-1726603200-1726614000@lecanalauditif.ca
SUMMARY:Porter Robinson présente SMILE! :D WORLD TOUR
DESCRIPTION:Le DJ\, producteur musical et musicien Porter Robinson sera au MTELUS pour présenter SMILE! 😀 WORLD TOUR le mardi 17 septembre de 20h à 23h.
URL:https://lecanalauditif.ca/evenement/porter-robinson-presente-smile-d-world-tour-mtelus/
LOCATION:MTELUS\, 59 Rue St-Catherine Est\, Montréal\, H2X 1K5\, Canada
CATEGORIES:Spectacle
ATTACH;FMTTYPE=image/jpeg:https://lecanalauditif.ca/wp-content/uploads/2024/06/porter_robinson_2024.jpg
END:VEVENT
BEGIN:VEVENT
DTSTART;TZID=America/Toronto:20240918T200000
DTEND;TZID=America/Toronto:20240918T230000
DTSTAMP:20260420T185337
CREATED:20240628T200944Z
LAST-MODIFIED:20240628T201022Z
UID:298209-1726689600-1726700400@lecanalauditif.ca
SUMMARY:Amen Dunes présente DEATH JOKES TOUR
DESCRIPTION:Amen Dunes présente le DEATH JOKES TOUR au Studio TD le mercredi 18 septembre  de 20h à 23h.
URL:https://lecanalauditif.ca/evenement/amen-dunes-presente-death-jokes-tour-studio-td/
LOCATION:Le Studio TD
CATEGORIES:Spectacle
ATTACH;FMTTYPE=image/jpeg:https://lecanalauditif.ca/wp-content/uploads/2024/06/amen_dunes_2024.jpg
END:VEVENT
BEGIN:VEVENT
DTSTART;TZID=America/Toronto:20240919T200000
DTEND;TZID=America/Toronto:20240919T230000
DTSTAMP:20260420T185337
CREATED:20240610T122730Z
LAST-MODIFIED:20240610T122730Z
UID:296976-1726776000-1726786800@lecanalauditif.ca
SUMMARY:renforshort
DESCRIPTION:Dans le cadre de sa tournée For the Thrill of It\, la chanteuse pop rock renforshort sera de passage au Ministère le 19 septembre.
URL:https://lecanalauditif.ca/evenement/renforshort-le-ministere-19-septembre-2024/
LOCATION:Le Ministère\, 4521 Boul Saint-Laurent\, Montreal\, H2T 1R2\, CA
CATEGORIES:Spectacle
ATTACH;FMTTYPE=image/png:https://lecanalauditif.ca/wp-content/uploads/2024/06/renforshort-2024.png
END:VEVENT
BEGIN:VEVENT
DTSTART;TZID=America/Toronto:20240925T200000
DTEND;TZID=America/Toronto:20240925T230000
DTSTAMP:20260420T185337
CREATED:20240628T201125Z
LAST-MODIFIED:20240628T201125Z
UID:298191-1727294400-1727305200@lecanalauditif.ca
SUMMARY:Twenty One Pilots présente THE CLANCY WORLD TOUR
DESCRIPTION:La formation Twenty One Pilot présente THE CLANCY WORLD TOUR au Centre Bell le mercredi 25 septembre de  20h à 23h.
URL:https://lecanalauditif.ca/evenement/twenty-one-pilots-presente-the-clancy-world-tour/
LOCATION:Centre Bell\, 1909 Avenue des Canadiens-de-Montréal\, Montréal\, H4B 5G0\, Canada
CATEGORIES:Spectacle
ATTACH;FMTTYPE=image/jpeg:https://lecanalauditif.ca/wp-content/uploads/2024/06/twenty_one_pilots_2024.jpg
END:VEVENT
END:VCALENDAR