BEGIN:VCALENDAR
VERSION:2.0
PRODID:-//Le Canal Auditif - ECPv6.15.16//NONSGML v1.0//EN
CALSCALE:GREGORIAN
METHOD:PUBLISH
X-WR-CALNAME:Le Canal Auditif
X-ORIGINAL-URL:https://lecanalauditif.ca
X-WR-CALDESC:Évènements pour Le Canal Auditif
REFRESH-INTERVAL;VALUE=DURATION:PT1H
X-Robots-Tag:noindex
X-PUBLISHED-TTL:PT1H
BEGIN:VTIMEZONE
TZID:America/Toronto
BEGIN:DAYLIGHT
TZOFFSETFROM:-0500
TZOFFSETTO:-0400
TZNAME:EDT
DTSTART:20200308T070000
END:DAYLIGHT
BEGIN:STANDARD
TZOFFSETFROM:-0400
TZOFFSETTO:-0500
TZNAME:EST
DTSTART:20201101T060000
END:STANDARD
BEGIN:DAYLIGHT
TZOFFSETFROM:-0500
TZOFFSETTO:-0400
TZNAME:EDT
DTSTART:20210314T070000
END:DAYLIGHT
BEGIN:STANDARD
TZOFFSETFROM:-0400
TZOFFSETTO:-0500
TZNAME:EST
DTSTART:20211107T060000
END:STANDARD
BEGIN:DAYLIGHT
TZOFFSETFROM:-0500
TZOFFSETTO:-0400
TZNAME:EDT
DTSTART:20220313T070000
END:DAYLIGHT
BEGIN:STANDARD
TZOFFSETFROM:-0400
TZOFFSETTO:-0500
TZNAME:EST
DTSTART:20221106T060000
END:STANDARD
BEGIN:DAYLIGHT
TZOFFSETFROM:-0500
TZOFFSETTO:-0400
TZNAME:EDT
DTSTART:20230312T070000
END:DAYLIGHT
BEGIN:STANDARD
TZOFFSETFROM:-0400
TZOFFSETTO:-0500
TZNAME:EST
DTSTART:20231105T060000
END:STANDARD
BEGIN:DAYLIGHT
TZOFFSETFROM:-0500
TZOFFSETTO:-0400
TZNAME:EDT
DTSTART:20240310T070000
END:DAYLIGHT
BEGIN:STANDARD
TZOFFSETFROM:-0400
TZOFFSETTO:-0500
TZNAME:EST
DTSTART:20241103T060000
END:STANDARD
BEGIN:DAYLIGHT
TZOFFSETFROM:-0500
TZOFFSETTO:-0400
TZNAME:EDT
DTSTART:20250309T070000
END:DAYLIGHT
BEGIN:STANDARD
TZOFFSETFROM:-0400
TZOFFSETTO:-0500
TZNAME:EST
DTSTART:20251102T060000
END:STANDARD
END:VTIMEZONE
BEGIN:VEVENT
DTSTART;TZID=America/Toronto:20240501T200000
DTEND;TZID=America/Toronto:20240501T230000
DTSTAMP:20260420T125732
CREATED:20240422T132431Z
LAST-MODIFIED:20240422T132431Z
UID:292974-1714593600-1714604400@lecanalauditif.ca
SUMMARY:Dying Fetus + Full of Hell + 200 Stab Wounds + Kruelty
DESCRIPTION:Le trio américain de metal Dying Fetus sera en concert au Théâtre Beanfield le 1er mai prochain. Ils seront précédés de Full of Hell\, 200 Stab Wounds et Kruelty.
URL:https://lecanalauditif.ca/evenement/dying-fetus-theatre-beanfield-1er-mai-2024/
LOCATION:Théâtre Beanfield / Corona\, 2490\, rue Notre-Dame Ouest\, Montréal\, Québec\, H3J 1N5\, Canada
CATEGORIES:Spectacle
ATTACH;FMTTYPE=image/jpeg:https://lecanalauditif.ca/wp-content/uploads/2022/09/0029715203_10.jpeg
END:VEVENT
BEGIN:VEVENT
DTSTART;TZID=America/Toronto:20210820T200000
DTEND;TZID=America/Toronto:20210820T200000
DTSTAMP:20260420T125732
CREATED:20210621T164855Z
LAST-MODIFIED:20210621T164938Z
UID:201137-1629489600-1629489600@lecanalauditif.ca
SUMMARY:Deftones + Gojira + Poppy | Place Bell
DESCRIPTION:Lire notre article à propos du concert. \nLe spectacle initialement prévu le 15 août 2020 a été remis au 20 août 2021. Les billets déjà émis pour ce concert seront honorés. \nBillets en vente dès maintenant.
URL:https://lecanalauditif.ca/evenement/deftones-gojira-poppy-place-bell/
LOCATION:Place Bell\, 1950 rue Claude-Gagné\, Laval\, Québec\, H7N 0E4\, Canada
CATEGORIES:Spectacle
ATTACH;FMTTYPE=image/png:https://lecanalauditif.ca/wp-content/uploads/2021/06/Capture-décran-le-2021-06-21-à-12.42.31.png
END:VEVENT
BEGIN:VEVENT
DTSTART;TZID=America/Toronto:20210627T160000
DTEND;TZID=America/Toronto:20210627T180000
DTSTAMP:20260420T125732
CREATED:20210506T164904Z
LAST-MODIFIED:20210506T165318Z
UID:190078-1624809600-1624816800@lecanalauditif.ca
SUMMARY:Voivod joue Dimension Hatross | Webdiffusion
DESCRIPTION:Le groupe de métal / hardrock québécois Voivod jouera son album Dimension Hatross. \nDiffusion en direct\nBillets en vente dès le ven 23 avril (via lepointdevente.com)\nSpectacle : dim 27 juin – 16h00 \nUne présentation de Heavy Montreal & Greenland \nHébergé par Evenko
URL:https://lecanalauditif.ca/evenement/voivod-joue-dimension-hatross/
LOCATION:Diffusion en direct
CATEGORIES:Spectacle
ATTACH;FMTTYPE=image/jpeg:https://lecanalauditif.ca/wp-content/uploads/2021/04/Voivod-27-juin.jpeg
END:VEVENT
BEGIN:VEVENT
DTSTART;TZID=America/Toronto:20210530T160000
DTEND;TZID=America/Toronto:20210530T180000
DTSTAMP:20260420T125732
CREATED:20210506T165406Z
LAST-MODIFIED:20210506T165440Z
UID:192404-1622390400-1622397600@lecanalauditif.ca
SUMMARY:VOIVOD joue NOTHINGFACE | Webdiffusion
DESCRIPTION:Le groupe de métal / hardrock québécois Voivod jouera son album Nothingface. \nDiffusion en direct\nBillets en vente via lepointdevente.com\nSpectacle : dim 30 mai – 16h00 \nUne présentation de Heavy Montreal & Greenland \nHébergé par Evenko
URL:https://lecanalauditif.ca/evenement/voivod-joue-nothingface-webdiffusion/
LOCATION:Diffusion en ligne
CATEGORIES:Spectacle
ATTACH;FMTTYPE=image/jpeg:https://lecanalauditif.ca/wp-content/uploads/2021/04/Voivod-27-juin.jpeg
END:VEVENT
BEGIN:VEVENT
DTSTART;TZID=America/Toronto:20210512T170000
DTEND;TZID=America/Toronto:20210512T180000
DTSTAMP:20260420T125732
CREATED:20210419T190244Z
LAST-MODIFIED:20210419T190244Z
UID:188871-1620838800-1620842400@lecanalauditif.ca
SUMMARY:Cradle of Filth Livestream
DESCRIPTION:Disponible en rediffusion jusqu’au 26 mai 2021
URL:https://lecanalauditif.ca/evenement/cradle-of-filth-livestream/
CATEGORIES:Spectacle
ATTACH;FMTTYPE=image/jpeg:https://lecanalauditif.ca/wp-content/uploads/2021/04/Craddle-of-Filth.jpeg
END:VEVENT
BEGIN:VEVENT
DTSTART;TZID=America/Toronto:20210501T110000
DTEND;TZID=America/Toronto:20210501T120000
DTSTAMP:20260420T125732
CREATED:20210428T220233Z
LAST-MODIFIED:20210428T220233Z
UID:191027-1619866800-1619870400@lecanalauditif.ca
SUMMARY:Boris | The «NO» WORLD TOUR IN YOUR HEAD | Capté en 360°
DESCRIPTION:Boris est un groupe de musique expérimentale japonais actif depuis 1992\, pratiquant des styles variés\, du stoner rock au drone et au doom métal. \nCe live session a été capté à l’aide de caméras 360°. Le trio Boris présentera les nouvelles pièces ornant leur plus récent album No paru en novembre 2020. \nLa période de visionnage des flux sera du 1er au 10 mai; première samedi le 1er à 11 h (HNE).\nLa durée du programme est de 50 minutes et pourra être visionnée via la chaîne YouTube officielle de Boris ici. \nGratuit! Contribution volontaire à envoyer ici. \n  \n\n 
URL:https://lecanalauditif.ca/evenement/boris-the-no-world-tour-in-your-head-capte-en-360/
LOCATION:Diffusion en ligne
CATEGORIES:Spectacle
ATTACH;FMTTYPE=image/jpeg:https://lecanalauditif.ca/wp-content/uploads/2021/04/Boris-World-Tour.jpeg
END:VEVENT
BEGIN:VEVENT
DTSTART;TZID=America/Toronto:20210424T160000
DTEND;TZID=America/Toronto:20210424T170000
DTSTAMP:20260420T125732
CREATED:20210419T170923Z
LAST-MODIFIED:20210419T170923Z
UID:188834-1619280000-1619283600@lecanalauditif.ca
SUMMARY:KORN | Monumental Livestream
DESCRIPTION:CAPTÉ AU CENTRE-VILLE DE LOS ANGELES SUR LE PLATEAU DE TOURNAGE DE LA SÉRIE STRANGER THINGS : VIVEZ CETTE EXPÉRIENCE INCONTOURNABLE DE CONCERT EN DIRECT! \nDANS LE CADRE DE L’ÉEXPÉRIENCE «MONUMENTAL»\, LE GROUPE DE NU MÉTAL KORN INTERPRÉTERA À LA FOIS DES CLASSIQUES ET DES NOUVELLES CHANSONS ISSUES DE L’ALBUM THE NOTHING. \n1:00PM PDT / 4:00PM EDT / 9:00PM BST / 10:00PM CEST
URL:https://lecanalauditif.ca/evenement/korn-monumental-livestream/
CATEGORIES:Spectacle
ATTACH;FMTTYPE=image/jpeg:https://lecanalauditif.ca/wp-content/uploads/2019/09/korn-1.jpg
END:VEVENT
END:VCALENDAR