BEGIN:VCALENDAR
VERSION:2.0
PRODID:-//Le Canal Auditif - ECPv6.15.16//NONSGML v1.0//EN
CALSCALE:GREGORIAN
METHOD:PUBLISH
X-WR-CALNAME:Le Canal Auditif
X-ORIGINAL-URL:https://lecanalauditif.ca
X-WR-CALDESC:Évènements pour Le Canal Auditif
REFRESH-INTERVAL;VALUE=DURATION:PT1H
X-Robots-Tag:noindex
X-PUBLISHED-TTL:PT1H
BEGIN:VTIMEZONE
TZID:America/Toronto
BEGIN:DAYLIGHT
TZOFFSETFROM:-0500
TZOFFSETTO:-0400
TZNAME:EDT
DTSTART:20200308T070000
END:DAYLIGHT
BEGIN:STANDARD
TZOFFSETFROM:-0400
TZOFFSETTO:-0500
TZNAME:EST
DTSTART:20201101T060000
END:STANDARD
BEGIN:DAYLIGHT
TZOFFSETFROM:-0500
TZOFFSETTO:-0400
TZNAME:EDT
DTSTART:20210314T070000
END:DAYLIGHT
BEGIN:STANDARD
TZOFFSETFROM:-0400
TZOFFSETTO:-0500
TZNAME:EST
DTSTART:20211107T060000
END:STANDARD
BEGIN:DAYLIGHT
TZOFFSETFROM:-0500
TZOFFSETTO:-0400
TZNAME:EDT
DTSTART:20220313T070000
END:DAYLIGHT
BEGIN:STANDARD
TZOFFSETFROM:-0400
TZOFFSETTO:-0500
TZNAME:EST
DTSTART:20221106T060000
END:STANDARD
END:VTIMEZONE
BEGIN:VEVENT
DTSTART;TZID=America/Toronto:20211119T200000
DTEND;TZID=America/Toronto:20211119T200000
DTSTAMP:20260420T081237
CREATED:20211111T174408Z
LAST-MODIFIED:20211111T174408Z
UID:230527-1637352000-1637352000@lecanalauditif.ca
SUMMARY:L'embellie\, un grand spectacle | Saratoga au Théâtre Outremont
DESCRIPTION:Saratoga offrira L’embellie\, un grand spectacle\, avec un trio harpe\, clarinette et piano sous la direction de Guillaume Bourque\, en plus de faire la place à deux interprètes en danse contemporaine. \n 
URL:https://lecanalauditif.ca/evenement/lembellie-un-grand-spectacle-saratoga-au-theatre-outremont/
LOCATION:Théâtre Outremont\, 1248 Avenue Bernard Ouest\, Montréal\, H2V 1V6\, Canada
CATEGORIES:Spectacle
ATTACH;FMTTYPE=image/jpeg:https://lecanalauditif.ca/wp-content/uploads/2021/11/saratoga.jpg
END:VEVENT
END:VCALENDAR