BEGIN:VCALENDAR
VERSION:2.0
PRODID:-//Le Canal Auditif - ECPv6.15.16//NONSGML v1.0//EN
CALSCALE:GREGORIAN
METHOD:PUBLISH
X-WR-CALNAME:Le Canal Auditif
X-ORIGINAL-URL:https://lecanalauditif.ca
X-WR-CALDESC:Évènements pour Le Canal Auditif
REFRESH-INTERVAL;VALUE=DURATION:PT1H
X-Robots-Tag:noindex
X-PUBLISHED-TTL:PT1H
BEGIN:VTIMEZONE
TZID:America/Toronto
BEGIN:DAYLIGHT
TZOFFSETFROM:-0500
TZOFFSETTO:-0400
TZNAME:EDT
DTSTART:20190310T070000
END:DAYLIGHT
BEGIN:STANDARD
TZOFFSETFROM:-0400
TZOFFSETTO:-0500
TZNAME:EST
DTSTART:20191103T060000
END:STANDARD
BEGIN:DAYLIGHT
TZOFFSETFROM:-0500
TZOFFSETTO:-0400
TZNAME:EDT
DTSTART:20200308T070000
END:DAYLIGHT
BEGIN:STANDARD
TZOFFSETFROM:-0400
TZOFFSETTO:-0500
TZNAME:EST
DTSTART:20201101T060000
END:STANDARD
BEGIN:DAYLIGHT
TZOFFSETFROM:-0500
TZOFFSETTO:-0400
TZNAME:EDT
DTSTART:20210314T070000
END:DAYLIGHT
BEGIN:STANDARD
TZOFFSETFROM:-0400
TZOFFSETTO:-0500
TZNAME:EST
DTSTART:20211107T060000
END:STANDARD
BEGIN:DAYLIGHT
TZOFFSETFROM:-0500
TZOFFSETTO:-0400
TZNAME:EDT
DTSTART:20220313T070000
END:DAYLIGHT
BEGIN:STANDARD
TZOFFSETFROM:-0400
TZOFFSETTO:-0500
TZNAME:EST
DTSTART:20221106T060000
END:STANDARD
END:VTIMEZONE
BEGIN:VEVENT
DTSTART;TZID=America/Toronto:20211015T080000
DTEND;TZID=America/Toronto:20211015T170000
DTSTAMP:20260419T203805
CREATED:20211015T145948Z
LAST-MODIFIED:20211015T150749Z
UID:225758-1634284800-1634317200@lecanalauditif.ca
SUMMARY:Listening Party de Choses Sauvages au Point Carré
DESCRIPTION:Le groupe Choses Sauvages lance son deuxième album Choses Sauvages II le 15 octobre 2021 au bar Le Point Carré\, à Montréal. Écoute de l’album à 22h\, DJset de Air Canada Jazz (Félix Bélisle et Thierry Malépart de 23h à tard. \nÉvénement gratuit\, mais consommation obligatoire. Arrivez tôt\, places limitées. Premier arrivé\, premier servi.
URL:https://lecanalauditif.ca/evenement/listening-party-de-choses-sauvages-au-point-carre/
LOCATION:Le Point Carré\, 1071 St Laurent\, 2e étage\, Montréal\, Qc\, H2Z 1J6\, Canada
CATEGORIES:Spectacle
ATTACH;FMTTYPE=image/jpeg:https://lecanalauditif.ca/wp-content/uploads/2021/09/choses-sauvages-ii.jpg
END:VEVENT
BEGIN:VEVENT
DTSTART;TZID=America/Toronto:20211007T200000
DTEND;TZID=America/Toronto:20211007T200000
DTSTAMP:20260419T203805
CREATED:20211004T151111Z
LAST-MODIFIED:20211004T151400Z
UID:223223-1633636800-1633636800@lecanalauditif.ca
SUMMARY:Titelaine | Lancement au Ausgang Plaza
DESCRIPTION:Lancement du tout premier album du duo Titelaine On veut vivre notre vie en vacances. Ça se passe le jeudi 7 octobre 2021 au Ausgang Plaza (Plaza St-Hubert). \nLe duo montréalais Titelaine vous fera danser sur ses chansons pop influencées par Céline Dion\, Dua Lipa\, Flume et Kaytranada. Formé de Loukas et Gabrielle\, Titelaine nous enveloppe de son univers coloré et espiègle sans équivoque.\nAvec son mini album intitulé Autour de toi en juin 2018\, le duo apporte des chansons aux sonorités modernes et électro agencées à des textes imagés. \nShow 20 h \nPortes 19 h
URL:https://lecanalauditif.ca/evenement/titelaine-lancement-au-ausgang-plaza/
LOCATION:Ausgang Plaza\, 6524 St-Hubert\, Montréal\, Québec\, H2S 2M3\, Canada
CATEGORIES:Spectacle
ATTACH;FMTTYPE=image/png:https://lecanalauditif.ca/wp-content/uploads/2021/10/Titelaine-lancement.png
END:VEVENT
BEGIN:VEVENT
DTSTART;TZID=America/Toronto:20211007T183000
DTEND;TZID=America/Toronto:20211007T183000
DTSTAMP:20260419T203805
CREATED:20211004T145422Z
LAST-MODIFIED:20211004T145422Z
UID:223220-1633631400-1633631400@lecanalauditif.ca
SUMMARY:Antoine Fugère | Lancement au Quai des Brumes
DESCRIPTION:GRATUIT \nRéservation obligatoire. \nL’auteur-compositeur-interprète québécois Antoine Fugère lance son EP La vraie signification de la vie au Quai des Brumes le 7 octobre 2021. \nShow 18h30 \nPortes 17h30
URL:https://lecanalauditif.ca/evenement/antoine-fugere-lancement-au-quai-des-brumes/
LOCATION:Quai des Brumes\, 4481\, Rue St-Denis\, Montréal\, H2J 2L2\, Canada
CATEGORIES:Spectacle
ATTACH;FMTTYPE=image/jpeg:https://lecanalauditif.ca/wp-content/uploads/2021/09/antoine-fugere-la-vraie-signification-de-la-vie.jpg
END:VEVENT
BEGIN:VEVENT
DTSTART;TZID=America/Toronto:20211006T200000
DTEND;TZID=America/Toronto:20211006T200000
DTSTAMP:20260419T203805
CREATED:20211004T144631Z
LAST-MODIFIED:20211004T144631Z
UID:223213-1633550400-1633550400@lecanalauditif.ca
SUMMARY:Lancement de 'Nos Petites Fioles de Poison' + DJ set de Les Jeunes Professionnels
DESCRIPTION:Afin de célébrer la sortie du EP Nos Petites Fioles de Poison de Brittany Dubson\, Club Découverte vous invite pour un DJ set du duo Les Jeunes Professionnels (Simon St-Louis + Philippe Gratton) à L’Escogriffe Bar & Spectacles. \nClub Découverte est une plateforme expérimentale de partage musical et poétique gérée par un collectif d’artistes montréalais (Presqu’Île\, Pelures Joue\, Brittany Dubson\, Faux Sommets). \nAu menu\, post-punk\, krautrock\, wave. Projections analogues et psychédéliques de Vidvid.
URL:https://lecanalauditif.ca/evenement/lancement-de-nos-petites-fioles-de-poison-dj-set-de-les-jeunes-professionnels/
LOCATION:L’Escogriffe Bar Spectacle\, Montréal\, Québec\, Canada
CATEGORIES:Spectacle
ATTACH;FMTTYPE=image/jpeg:https://lecanalauditif.ca/wp-content/uploads/2021/10/brittany-dubson-lancement.jpeg
END:VEVENT
BEGIN:VEVENT
DTSTART;TZID=America/Toronto:20210929T210000
DTEND;TZID=America/Toronto:20210929T210000
DTSTAMP:20260419T203805
CREATED:20210830T203816Z
LAST-MODIFIED:20210830T204003Z
UID:213451-1632949200-1632949200@lecanalauditif.ca
SUMMARY:BRUNNEMER au Quai des Brumes | Lancement d'album
DESCRIPTION:Avertissement : Le passeport vaccinal pourrait être obligatoire pour accéder à cet événement. En savoir plus \nBrunnemer (Sarah Michel-Brunnemer) présentera son nouveau stock de *PAON*HYÈNE*\, son premier album après l’EP lancé en mai 2020\, Jazz is the new triste. Les nouvelles chansons des deux offrandes seront lancées avec vous en direct au Quai des Brumes. \n*PAON*HYÈNE* — 24 septembre 2021\nLancement — 29 septembre 2021 \n\n 
URL:https://lecanalauditif.ca/evenement/brunnemer-au-quai-des-brumes-lancement-dalbum/
LOCATION:Quai des Brumes\, 4481\, Rue St-Denis\, Montréal\, H2J 2L2\, Canada
CATEGORIES:Spectacle
ATTACH;FMTTYPE=image/png:https://lecanalauditif.ca/wp-content/uploads/2021/08/Brunnemer-reine-bibitte.png
END:VEVENT
BEGIN:VEVENT
DTSTART;TZID=America/Toronto:20210915T170000
DTEND;TZID=America/Toronto:20210915T170000
DTSTAMP:20260419T203805
CREATED:20210827T201859Z
LAST-MODIFIED:20210827T202442Z
UID:213226-1631725200-1631725200@lecanalauditif.ca
SUMMARY:Laroie | Lancement d'EP @Café Osmo
DESCRIPTION:L’artiste montréalaise Laroie (Gab Godon) lancera son EP Speed of Light le 15 septembre 2021 au Café Osmo\, à Montréal.\nAu menu : Nourriture\, alcools\, DJ sets\, performance de l’artiste\, marchandise et plus.\n\nlaroie.com
URL:https://lecanalauditif.ca/evenement/laroie-lancement-dep-cafe-osmo/
CATEGORIES:Spectacle
ATTACH;FMTTYPE=image/jpeg:https://lecanalauditif.ca/wp-content/uploads/2021/08/Laroie-Facebook.jpeg
END:VEVENT
BEGIN:VEVENT
DTSTART;TZID=America/Toronto:20210527T200000
DTEND;TZID=America/Toronto:20210527T210000
DTSTAMP:20260419T203805
CREATED:20210419T213011Z
LAST-MODIFIED:20210419T213011Z
UID:184419-1622145600-1622149200@lecanalauditif.ca
SUMMARY:Russell Louder | Lancement virtuel de l'album Humor
DESCRIPTION:WEBDIFFUSION \nL’artiste canadien.ne non-binaire Russell Louder lancera son premier album intitulé Humor\, le 27 mai 2021 à la salle de spectacles Le Ministère. \n 
URL:https://lecanalauditif.ca/evenement/russell-louder-lancement-virtuel-de-lalbum-humor/
CATEGORIES:Spectacle
ATTACH;FMTTYPE=image/jpeg:https://lecanalauditif.ca/wp-content/uploads/2021/02/Russell-Louder.jpg
END:VEVENT
BEGIN:VEVENT
DTSTART;VALUE=DATE:20210522
DTEND;VALUE=DATE:20210525
DTSTAMP:20260419T203805
CREATED:20210521T195311Z
LAST-MODIFIED:20210521T195311Z
UID:195025-1621641600-1621900799@lecanalauditif.ca
SUMMARY:Julien Sagot | Virtuel | AUSGANG
DESCRIPTION:Vous avez manqué le concert de lancement en présentiel de Julien Sagot? C’est possible de le rattraper en webdiffusion du 22 au 24 mai. La captation de ce spectacle a été faite en direct le mercredi 12 mai au AUSGANG Plaza à Montréal. \n  \nDiffusions \n\n\n22 mai 2021\n20h00 – 23h45 / Entrée: 19h45\n\n\n23 mai 2021\n0h00 – 23h45\n\n\n24 mai 2021\n0h00 – 7h00\n\n\n 
URL:https://lecanalauditif.ca/evenement/julien-sagot-virtuel-ausgang/
LOCATION:Diffusion en ligne
CATEGORIES:Spectacle
ATTACH;FMTTYPE=image/jpeg:https://lecanalauditif.ca/wp-content/uploads/2021/02/juliensagot-single.jpg
END:VEVENT
BEGIN:VEVENT
DTSTART;TZID=America/Toronto:20210507T200000
DTEND;TZID=America/Toronto:20210507T200000
DTSTAMP:20260419T203805
CREATED:20210505T152908Z
LAST-MODIFIED:20210505T153030Z
UID:192051-1620417600-1620417600@lecanalauditif.ca
SUMMARY:Paul Jacobs | Lancement d'album | Pink Dogs on the Green Grass | Webdiffusion
DESCRIPTION:Rejoignez Paul Jacobs et son groupe pour célébrer le lancement du huitième album de l’artiste montréalais. Pink Dogs on the Green Grass arrivait le 30 avril dernier via les labels Mothland (Canada) et Blow The Fuse (International). \nLisez notre critique du disque\, signée par notre collaborateur Gabriel Tremblay. \nLe concert se déroulera gratuitement et en direct sur la page Facebook de l’événement. \n 
URL:https://lecanalauditif.ca/evenement/paul-jacobs-lancement-dalbum-pink-dogs-on-the-green-grass-webdiffusion/
LOCATION:Diffusion en ligne
CATEGORIES:Spectacle
ATTACH;FMTTYPE=image/jpeg:https://lecanalauditif.ca/wp-content/uploads/2021/01/Paul-Jacobs-scaled.jpg
END:VEVENT
BEGIN:VEVENT
DTSTART;TZID=America/Toronto:20210308T180000
DTEND;TZID=America/Toronto:20210308T193000
DTSTAMP:20260419T203805
CREATED:20210304T175919Z
LAST-MODIFIED:20210304T194739Z
UID:179855-1615226400-1615231800@lecanalauditif.ca
SUMMARY:Lancement de la 25e édition | Francouvertes 2021
DESCRIPTION:SiriusXM et Les Francouvertes vous convient au lancement de la 25e édition du concours-vitrine de toutes les musiques\nSoyez des nôtres le 8 mars dès 18 h sur notre page Facebook. En direct du Lion d’Or\, vous découvrirez ce que vous réserve cette édition\, alors que notre événement célèbre un quart de siècle. Au programme : de la musique avec Valence\, lauréat de 2020\, et le groupe Buffalo Hat Singers\, un conte inédit de notre porte-parole Simon Boulerice et la présentation officielle de la cohorte de 2021.\n\nC’est gratuit!
URL:https://lecanalauditif.ca/evenement/lancement-de-la-25e-edition-francouvertes-2021/
LOCATION:Cabaret Lion d’Or\, 1676 Rue Ontario Est\, Montréal\, H2L 1S7\, Canada
CATEGORIES:Spectacle
ATTACH;FMTTYPE=image/jpeg:https://lecanalauditif.ca/wp-content/uploads/2021/03/francous-lancement.jpeg
END:VEVENT
BEGIN:VEVENT
DTSTART;TZID=America/Toronto:20201105T200000
DTEND;TZID=America/Toronto:20201105T230000
DTSTAMP:20260419T203805
CREATED:20201029T202012Z
LAST-MODIFIED:20201029T202012Z
UID:160317-1604606400-1604617200@lecanalauditif.ca
SUMMARY:Mélodie Spear | Lancement virtuel | CCF2020
DESCRIPTION:Coup de coeur francophone présente \nMÉLODIE SPEAR\nJEUDI 5 NOVEMBRE – 20H\nLancement virtuel \nElle a le phrasé tantôt désinvolte\, tantôt fougueux. Dans tous les cas\, Mélodie Spear sait comment nous happer dès les premières secondes avec sa voix brûlante et sa poésie qui transperce. Entre le rock et le conte\, la gagnante de Ma première Place des Arts 2019 et semi-finaliste au Festival international de la chanson de Granby 2017 prépare (enfin) son premier EP.\nPhoto © Emilie Tremblay \n  \n 
URL:https://lecanalauditif.ca/evenement/melodie-spear-lancement-virtuel-ccf2020/
CATEGORIES:Spectacle
END:VEVENT
END:VCALENDAR