BEGIN:VCALENDAR
VERSION:2.0
PRODID:-//Le Canal Auditif - ECPv6.15.16//NONSGML v1.0//EN
CALSCALE:GREGORIAN
METHOD:PUBLISH
X-WR-CALNAME:Le Canal Auditif
X-ORIGINAL-URL:https://lecanalauditif.ca
X-WR-CALDESC:Évènements pour Le Canal Auditif
REFRESH-INTERVAL;VALUE=DURATION:PT1H
X-Robots-Tag:noindex
X-PUBLISHED-TTL:PT1H
BEGIN:VTIMEZONE
TZID:America/Toronto
BEGIN:DAYLIGHT
TZOFFSETFROM:-0500
TZOFFSETTO:-0400
TZNAME:EDT
DTSTART:20200308T070000
END:DAYLIGHT
BEGIN:STANDARD
TZOFFSETFROM:-0400
TZOFFSETTO:-0500
TZNAME:EST
DTSTART:20201101T060000
END:STANDARD
BEGIN:DAYLIGHT
TZOFFSETFROM:-0500
TZOFFSETTO:-0400
TZNAME:EDT
DTSTART:20210314T070000
END:DAYLIGHT
BEGIN:STANDARD
TZOFFSETFROM:-0400
TZOFFSETTO:-0500
TZNAME:EST
DTSTART:20211107T060000
END:STANDARD
BEGIN:DAYLIGHT
TZOFFSETFROM:-0500
TZOFFSETTO:-0400
TZNAME:EDT
DTSTART:20220313T070000
END:DAYLIGHT
BEGIN:STANDARD
TZOFFSETFROM:-0400
TZOFFSETTO:-0500
TZNAME:EST
DTSTART:20221106T060000
END:STANDARD
END:VTIMEZONE
BEGIN:VEVENT
DTSTART;TZID=America/Toronto:20210621T150000
DTEND;TZID=America/Toronto:20210621T150000
DTSTAMP:20260420T100331
CREATED:20210618T200555Z
LAST-MODIFIED:20210618T200914Z
UID:200982-1624287600-1624287600@lecanalauditif.ca
SUMMARY:POP Montreal présente : National Indigenous Peoples Day!
DESCRIPTION:National Indigenous Peoples Day – Journée Nationale des Peuples Autochtones\n21 juin 2021\nSquare Cabot ** \nBuffalo Hat Singers\nScott Sinquah\nShauit\nGeronimo Inutiq\nMoe Clark\nCorey Diabo\nJeremy Dutcher \n**Free on reservation AND also in virtual formula at POP Montreal\n(corner Lambert-Closse & Ste-Catherine Ouest)
URL:https://lecanalauditif.ca/evenement/pop-montreal-presente-national-indigenous-peoples-day/
CATEGORIES:Spectacle
ATTACH;FMTTYPE=image/jpeg:https://lecanalauditif.ca/wp-content/uploads/2021/06/Indigenous-day-scaled.jpeg
END:VEVENT
END:VCALENDAR