BEGIN:VCALENDAR
VERSION:2.0
PRODID:-//Le Canal Auditif - ECPv6.15.16//NONSGML v1.0//EN
CALSCALE:GREGORIAN
METHOD:PUBLISH
X-ORIGINAL-URL:https://lecanalauditif.ca
X-WR-CALDESC:Évènements pour Le Canal Auditif
REFRESH-INTERVAL;VALUE=DURATION:PT1H
X-Robots-Tag:noindex
X-PUBLISHED-TTL:PT1H
BEGIN:VTIMEZONE
TZID:America/Toronto
BEGIN:DAYLIGHT
TZOFFSETFROM:-0500
TZOFFSETTO:-0400
TZNAME:EDT
DTSTART:20240310T070000
END:DAYLIGHT
BEGIN:STANDARD
TZOFFSETFROM:-0400
TZOFFSETTO:-0500
TZNAME:EST
DTSTART:20241103T060000
END:STANDARD
BEGIN:DAYLIGHT
TZOFFSETFROM:-0500
TZOFFSETTO:-0400
TZNAME:EDT
DTSTART:20250309T070000
END:DAYLIGHT
BEGIN:STANDARD
TZOFFSETFROM:-0400
TZOFFSETTO:-0500
TZNAME:EST
DTSTART:20251102T060000
END:STANDARD
BEGIN:DAYLIGHT
TZOFFSETFROM:-0500
TZOFFSETTO:-0400
TZNAME:EDT
DTSTART:20260308T070000
END:DAYLIGHT
BEGIN:STANDARD
TZOFFSETFROM:-0400
TZOFFSETTO:-0500
TZNAME:EST
DTSTART:20261101T060000
END:STANDARD
END:VTIMEZONE
BEGIN:VEVENT
DTSTART;TZID=America/Toronto:20250802T080000
DTEND;TZID=America/Toronto:20250802T170000
DTSTAMP:20260419T170630
CREATED:20250219T171615Z
LAST-MODIFIED:20250219T171635Z
UID:309239-1754121600-1754154000@lecanalauditif.ca
SUMMARY:Osheaga 2025: Jour 2
DESCRIPTION:Le samedi 2 août\, le deuxième jour d’Oshega sera l’affaire de l’immense Tyler\, The Creator en guise de tête d’affiche. Il partagera cette journée avec Gracie Abrams\, The Chainsmokers et Shaboozey. Les scènes accueilleront aussi des artistes de tous genres\, comme Lost Frequencies\, bbno$\, Smino\, Alex Warren\, Hologramme et plusieurs autres.
URL:https://lecanalauditif.ca/evenement/osheaga-2025-jour-2/
LOCATION:Parc Jean-Drapeau\, 296 Chemin du Tour de l'isle\, Montréal\, H3C 4G8\, Canada
CATEGORIES:Festival,Spectacle
ATTACH;FMTTYPE=image/jpeg:https://lecanalauditif.ca/wp-content/uploads/2025/02/osheaga-2025.jpg
END:VEVENT
END:VCALENDAR