BEGIN:VCALENDAR
VERSION:2.0
PRODID:-//Le Canal Auditif - ECPv6.15.16//NONSGML v1.0//EN
CALSCALE:GREGORIAN
METHOD:PUBLISH
X-WR-CALNAME:Le Canal Auditif
X-ORIGINAL-URL:https://lecanalauditif.ca
X-WR-CALDESC:Évènements pour Le Canal Auditif
REFRESH-INTERVAL;VALUE=DURATION:PT1H
X-Robots-Tag:noindex
X-PUBLISHED-TTL:PT1H
BEGIN:VTIMEZONE
TZID:America/Toronto
BEGIN:DAYLIGHT
TZOFFSETFROM:-0500
TZOFFSETTO:-0400
TZNAME:EDT
DTSTART:20240310T070000
END:DAYLIGHT
BEGIN:STANDARD
TZOFFSETFROM:-0400
TZOFFSETTO:-0500
TZNAME:EST
DTSTART:20241103T060000
END:STANDARD
BEGIN:DAYLIGHT
TZOFFSETFROM:-0500
TZOFFSETTO:-0400
TZNAME:EDT
DTSTART:20250309T070000
END:DAYLIGHT
BEGIN:STANDARD
TZOFFSETFROM:-0400
TZOFFSETTO:-0500
TZNAME:EST
DTSTART:20251102T060000
END:STANDARD
BEGIN:DAYLIGHT
TZOFFSETFROM:-0500
TZOFFSETTO:-0400
TZNAME:EDT
DTSTART:20260308T070000
END:DAYLIGHT
BEGIN:STANDARD
TZOFFSETFROM:-0400
TZOFFSETTO:-0500
TZNAME:EST
DTSTART:20261101T060000
END:STANDARD
END:VTIMEZONE
BEGIN:VEVENT
DTSTART;TZID=America/Toronto:20250713T000000
DTEND;TZID=America/Toronto:20250713T235959
DTSTAMP:20260419T183354
CREATED:20250226T212955Z
LAST-MODIFIED:20250226T213039Z
UID:309641-1752364800-1752451199@lecanalauditif.ca
SUMMARY:FEQ 2025: Jour 11
DESCRIPTION:Lors de la onzième et dernière journée du festival\, sont annoncées Farruko\, Isabelle Boulay\, Def Mama Def\, Safia Nolin\, Les Mamans du Congo & Rrobin\, Moonshine\, Cruzito\, Fulu Miziki Kolektiv\, Nico Paulo\, Les Chansonneurs de Petite-Vallée\, Cindy Bédard\, Wyatt C. Louis\, Olivia Khoury et San Farafina et une célébration pour le trentenaire de D’eux de Céline Dion.
URL:https://lecanalauditif.ca/evenement/feq-2025-jour-11/
LOCATION:Plaines d’Abraham\, 835 Av. Wilfrid-Laurier\, Québec\, Québec\, G1R 2L3\, Canada
CATEGORIES:Festival,Spectacle
ATTACH;FMTTYPE=image/jpeg:https://lecanalauditif.ca/wp-content/uploads/2025/02/feq-prog-2025.jpeg
ORGANIZER;CN="Festival d'%C3%A9t%C3%A9 de Qu%C3%A9bec (FEQ)":MAILTO:billetterie@feq.ca
END:VEVENT
END:VCALENDAR