BEGIN:VCALENDAR
VERSION:2.0
PRODID:-//Le Canal Auditif - ECPv6.15.16//NONSGML v1.0//EN
CALSCALE:GREGORIAN
METHOD:PUBLISH
X-WR-CALNAME:Le Canal Auditif
X-ORIGINAL-URL:https://lecanalauditif.ca
X-WR-CALDESC:Évènements pour Le Canal Auditif
REFRESH-INTERVAL;VALUE=DURATION:PT1H
X-Robots-Tag:noindex
X-PUBLISHED-TTL:PT1H
BEGIN:VTIMEZONE
TZID:America/Toronto
BEGIN:DAYLIGHT
TZOFFSETFROM:-0500
TZOFFSETTO:-0400
TZNAME:EDT
DTSTART:20240310T070000
END:DAYLIGHT
BEGIN:STANDARD
TZOFFSETFROM:-0400
TZOFFSETTO:-0500
TZNAME:EST
DTSTART:20241103T060000
END:STANDARD
BEGIN:DAYLIGHT
TZOFFSETFROM:-0500
TZOFFSETTO:-0400
TZNAME:EDT
DTSTART:20250309T070000
END:DAYLIGHT
BEGIN:STANDARD
TZOFFSETFROM:-0400
TZOFFSETTO:-0500
TZNAME:EST
DTSTART:20251102T060000
END:STANDARD
BEGIN:DAYLIGHT
TZOFFSETFROM:-0500
TZOFFSETTO:-0400
TZNAME:EDT
DTSTART:20260308T070000
END:DAYLIGHT
BEGIN:STANDARD
TZOFFSETFROM:-0400
TZOFFSETTO:-0500
TZNAME:EST
DTSTART:20261101T060000
END:STANDARD
END:VTIMEZONE
BEGIN:VEVENT
DTSTART;TZID=America/Toronto:20250712T000000
DTEND;TZID=America/Toronto:20250712T235959
DTSTAMP:20260419T183258
CREATED:20250226T212215Z
LAST-MODIFIED:20250226T212231Z
UID:309639-1752278400-1752364799@lecanalauditif.ca
SUMMARY:FEQ 2025: Jour 10
DESCRIPTION:L’équipe du FEQ a prévu une dixième journée chargée avec Shania Twain\, Ice Spice\, Maren Morris\, Blaiz Fayah\, Goldie Boutilier\, comment debord\, Mo’Kalamity\, K.Gianni\, Aunty Tayzor\, Roxy Ferrari\, Waahli\, DijahSB\, Hawa B\, Kinkead et Douance.
URL:https://lecanalauditif.ca/evenement/feq-2025-jour-10/
LOCATION:Plaines d’Abraham\, 835 Av. Wilfrid-Laurier\, Québec\, Québec\, G1R 2L3\, Canada
CATEGORIES:Festival,Spectacle
ATTACH;FMTTYPE=image/jpeg:https://lecanalauditif.ca/wp-content/uploads/2025/02/feq-prog-2025.jpeg
ORGANIZER;CN="Festival d'%C3%A9t%C3%A9 de Qu%C3%A9bec (FEQ)":MAILTO:billetterie@feq.ca
END:VEVENT
END:VCALENDAR