BEGIN:VCALENDAR
VERSION:2.0
PRODID:-//Le Canal Auditif - ECPv6.15.16//NONSGML v1.0//EN
CALSCALE:GREGORIAN
METHOD:PUBLISH
X-ORIGINAL-URL:https://lecanalauditif.ca
X-WR-CALDESC:Évènements pour Le Canal Auditif
REFRESH-INTERVAL;VALUE=DURATION:PT1H
X-Robots-Tag:noindex
X-PUBLISHED-TTL:PT1H
BEGIN:VTIMEZONE
TZID:America/Toronto
BEGIN:DAYLIGHT
TZOFFSETFROM:-0500
TZOFFSETTO:-0400
TZNAME:EDT
DTSTART:20240310T070000
END:DAYLIGHT
BEGIN:STANDARD
TZOFFSETFROM:-0400
TZOFFSETTO:-0500
TZNAME:EST
DTSTART:20241103T060000
END:STANDARD
BEGIN:DAYLIGHT
TZOFFSETFROM:-0500
TZOFFSETTO:-0400
TZNAME:EDT
DTSTART:20250309T070000
END:DAYLIGHT
BEGIN:STANDARD
TZOFFSETFROM:-0400
TZOFFSETTO:-0500
TZNAME:EST
DTSTART:20251102T060000
END:STANDARD
BEGIN:DAYLIGHT
TZOFFSETFROM:-0500
TZOFFSETTO:-0400
TZNAME:EDT
DTSTART:20260308T070000
END:DAYLIGHT
BEGIN:STANDARD
TZOFFSETFROM:-0400
TZOFFSETTO:-0500
TZNAME:EST
DTSTART:20261101T060000
END:STANDARD
END:VTIMEZONE
BEGIN:VEVENT
DTSTART;TZID=America/Toronto:20250705T000000
DTEND;TZID=America/Toronto:20250705T235959
DTSTAMP:20260420T001646
CREATED:20250226T202603Z
LAST-MODIFIED:20250226T202625Z
UID:309626-1751673600-1751759999@lecanalauditif.ca
SUMMARY:FEQ 2025: Jour 3
DESCRIPTION:Il y en aura pour tous les goûts lors de la troisième journée du FEQ 2025 avec des artistes et des projets comme Benson Boone\, George Thorogood & The Destroyers\, Remi Wolf\, Matt Andersen\, The Cat Empire\, ZZ Ward\, Etienne Dufresne\, Julyan\, Vanille\, Sax Machine\, Spencer Mackenzie\, La Chiva Gantiva\, Buddy Mcneil & The Magic Mirrors\, Marie Céleste\, Gawbé et Clara D.
URL:https://lecanalauditif.ca/evenement/feq-2025-jour-3/
LOCATION:Plaines d’Abraham\, 835 Av. Wilfrid-Laurier\, Québec\, Québec\, G1R 2L3\, Canada
CATEGORIES:Festival,Spectacle
ATTACH;FMTTYPE=image/jpeg:https://lecanalauditif.ca/wp-content/uploads/2025/02/feq-prog-2025.jpeg
ORGANIZER;CN="Festival d'%C3%A9t%C3%A9 de Qu%C3%A9bec (FEQ)":MAILTO:billetterie@feq.ca
END:VEVENT
END:VCALENDAR